BEGIN:VCALENDAR
VERSION:2.0
PRODID:-//hacksw/handcal//NONSGML v1.0//EN
BEGIN:VEVENT
SUMMARY:Athle Fit Challenge
UID:bb9ebe31-793e-4df5-a78c-629926664793
DTSTART:20260427T163000Z
DTEND:20260427T183000Z
LOCATION:Localisation   
CATEGORIES:Sportif
STATUS:
DESCRIPTION:<p>Le lundi 27 avril 2026 le SMAC vous invite a venir
 vous challenger sur un exercice inhabituel ! A mi-chemin entre
 athletisme, course a pied et hyrox : l'athle fit est parfait pour se
 faire plaisir, se motiver et transpirer dans la joie et la bonne
 humeur. </p>
 
 <p>L'animation est ouverte a toutes et tous a partir
 de la categorie cadet. Que vous soyez competiteurs dans l'ame ou que
 votre but soit simplement de vous entretenir, nous avons la seance
 qu'il vous faut !!</p>
 
 <p>Deux challenges seront disponibles
 : </p>
 
 <ul>
 	<li>Le CHALLENGER pour les competiteurs et ceux qui
 veulent transpirer ! Alternance de course et d'exercices cardio +
 renfo a faire dans un minimum de temps et sans repos.</li>
 	<li>Le
 WELLNESS adaptes a tous ! Ce challenge reprend les exercices de
 course ou marche, des exercices cardio et de renfo mais en plus
 facile et avec un temps de repos. </li>
 </ul>
URL;VALUE=URI:https://www.smac83.fr/evenements/2026/04/27/athle-fit-challenge-2439710
END:VEVENT
END:VCALENDAR
